BEGIN:VCALENDAR
VERSION:2.0
PRODID:-//WI Databricks User Group - ECPv6.15.16.1//NONSGML v1.0//EN
CALSCALE:GREGORIAN
METHOD:PUBLISH
X-WR-CALNAME:WI Databricks User Group
X-ORIGINAL-URL:https://www.wisdbug.com
X-WR-CALDESC:Events for WI Databricks User Group
REFRESH-INTERVAL;VALUE=DURATION:PT1H
X-Robots-Tag:noindex
X-PUBLISHED-TTL:PT1H
BEGIN:VTIMEZONE
TZID:America/Chicago
BEGIN:DAYLIGHT
TZOFFSETFROM:-0600
TZOFFSETTO:-0500
TZNAME:CDT
DTSTART:20240310T080000
END:DAYLIGHT
BEGIN:STANDARD
TZOFFSETFROM:-0500
TZOFFSETTO:-0600
TZNAME:CST
DTSTART:20241103T070000
END:STANDARD
BEGIN:DAYLIGHT
TZOFFSETFROM:-0600
TZOFFSETTO:-0500
TZNAME:CDT
DTSTART:20250309T080000
END:DAYLIGHT
BEGIN:STANDARD
TZOFFSETFROM:-0500
TZOFFSETTO:-0600
TZNAME:CST
DTSTART:20251102T070000
END:STANDARD
BEGIN:DAYLIGHT
TZOFFSETFROM:-0600
TZOFFSETTO:-0500
TZNAME:CDT
DTSTART:20260308T080000
END:DAYLIGHT
BEGIN:STANDARD
TZOFFSETFROM:-0500
TZOFFSETTO:-0600
TZNAME:CST
DTSTART:20261101T070000
END:STANDARD
END:VTIMEZONE
BEGIN:VEVENT
DTSTART;TZID=America/Chicago:20251117T120000
DTEND;TZID=America/Chicago:20251117T133000
DTSTAMP:20260422T070959
CREATED:20251030T065552Z
LAST-MODIFIED:20251119T074025Z
UID:1555-1763380800-1763386200@www.wisdbug.com
SUMMARY:Building Intelligent Supply Chain with Databricks
DESCRIPTION:This event has already taken place. The recording will be available soon. Please check back later for the video link.
URL:https://www.wisdbug.com/event/building-intelligent-supply-chain-with-databricks/
CATEGORIES:Previous Event
ATTACH;FMTTYPE=image/png:/wp-content/uploads/2025/10/Building-Intelligent-Supply-Chain-with-Databricks-2048-x-1071-px.png
END:VEVENT
BEGIN:VEVENT
DTSTART;TZID=America/Chicago:20251118T173000
DTEND;TZID=America/Chicago:20251118T190000
DTSTAMP:20260422T070959
CREATED:20250925T194638Z
LAST-MODIFIED:20251119T074033Z
UID:1480-1763487000-1763492400@www.wisdbug.com
SUMMARY:Wisconsin Databricks User Group: Data Warehousing
DESCRIPTION:This event has already taken place. The recording will be available soon. Please check back later for the video link.
URL:https://www.wisdbug.com/event/wisconsin-databricks-user-group-data-warehousing/
LOCATION:MSOE Dwight and Dian Diercks Computational Science Hall Building\, 1025 N Milwaukee Street\, Room DH445\, Milwaukee\, WI\, 53202\, United States
CATEGORIES:Previous Event
ATTACH;FMTTYPE=image/png:/wp-content/uploads/2025/09/Purple-and-Black-Modern-Technology-Seminar-Instagram-Post-2048-x-1071-px-2048-x-1071-px.png
END:VEVENT
END:VCALENDAR