BEGIN:VCALENDAR
VERSION:2.0
PRODID:-//WI Databricks User Group - ECPv6.15.16.1//NONSGML v1.0//EN
CALSCALE:GREGORIAN
METHOD:PUBLISH
X-ORIGINAL-URL:https://www.wisdbug.com
X-WR-CALDESC:Events for WI Databricks User Group
REFRESH-INTERVAL;VALUE=DURATION:PT1H
X-Robots-Tag:noindex
X-PUBLISHED-TTL:PT1H
BEGIN:VTIMEZONE
TZID:America/Chicago
BEGIN:DAYLIGHT
TZOFFSETFROM:-0600
TZOFFSETTO:-0500
TZNAME:CDT
DTSTART:20250309T080000
END:DAYLIGHT
BEGIN:STANDARD
TZOFFSETFROM:-0500
TZOFFSETTO:-0600
TZNAME:CST
DTSTART:20251102T070000
END:STANDARD
BEGIN:DAYLIGHT
TZOFFSETFROM:-0600
TZOFFSETTO:-0500
TZNAME:CDT
DTSTART:20260308T080000
END:DAYLIGHT
BEGIN:STANDARD
TZOFFSETFROM:-0500
TZOFFSETTO:-0600
TZNAME:CST
DTSTART:20261101T070000
END:STANDARD
BEGIN:DAYLIGHT
TZOFFSETFROM:-0600
TZOFFSETTO:-0500
TZNAME:CDT
DTSTART:20270314T080000
END:DAYLIGHT
BEGIN:STANDARD
TZOFFSETFROM:-0500
TZOFFSETTO:-0600
TZNAME:CST
DTSTART:20271107T070000
END:STANDARD
END:VTIMEZONE
BEGIN:VEVENT
DTSTART;TZID=America/Chicago:20260120T173000
DTEND;TZID=America/Chicago:20260120T190000
DTSTAMP:20260422T175821
CREATED:20251230T073501Z
LAST-MODIFIED:20260130T174525Z
UID:1847-1768930200-1768935600@www.wisdbug.com
SUMMARY:Holiday Special: MLOps in Databricks
DESCRIPTION:Virtual Option \nCan’t attend in person? No problem\, we’ll also be streaming an online webinar from the event. Click below to register: \n \n\nVirtual Event \n  \n\nDate/Time: January 20th | 5:30-7PM CST\nLocation: MSOE 1025 N Milwaukee Street\, Milwaukee\, WI 53202 (Virtual option also available)\nRoom Number: 445\nSpeakers: Andrew McQueen (Databricks Data Science Professional)\nAgenda:\n\n\n5:30-6:30: Networking with User Group and Professionals + Food\, Drinks and Prizes\n6:30-7: Andrew McQueen: “MLOps in Databricks”\n\n\nDescription:\n\nJoin us for a special holiday edition of the Wisconsin Databricks User Group meetup on January 20th! While the holidays may be behind us\, this event is all about reconnecting\, relaxing\, and kicking off the new year with the local data community. This session places extra emphasis on networking and socializing\, with plenty of time to connect with fellow data professionals\, enjoy food and drinks\, and take part in prize giveaways. Whether you’re looking to expand your professional network\, exchange ideas\, or just unwind with others in the Databricks ecosystem\, this meetup is designed to be equal parts informative and social. As always\, Databricks practitioners of all experience levels are welcome\, and you can choose to join us in person or attend virtually through our live webinar. \n\n\nMLOps in Databricks:\n\nIn this technical session\, Andrew McQueen\, Databricks Data Science Professional\, will walk through how Databricks supports end-to-end MLOps workflows using a hands-on\, real-world example rather than just slides. The presentation will cover experiment tracking\, model comparison and selection\, model registry and versioning\, monitoring\, and building repeatable workflows that scale as new data arrives. Andrew will also touch on key Databricks platform capabilities such as governance and Unity Catalog\, tying everything together into a practical\, production-ready MLOps lifecycle that teams can actually use.
URL:https://www.wisdbug.com/event/holiday-special-mlops-in-databricks/
CATEGORIES:Previous Event
ATTACH;FMTTYPE=image/jpeg:/wp-content/uploads/2025/12/event-2-mock-v3-landscape.jpg
END:VEVENT
BEGIN:VEVENT
DTSTART;TZID=America/Chicago:20260217T173000
DTEND;TZID=America/Chicago:20260217T190000
DTSTAMP:20260422T175821
CREATED:20260122T210923Z
LAST-MODIFIED:20260422T190357Z
UID:1879-1771349400-1771354800@www.wisdbug.com
SUMMARY:WI Databricks User Group - Data Scientist Panel
DESCRIPTION:Virtual Option \nCan’t attend in person? No problem\, we’ll also be streaming an online webinar from the event. Click below to register: \n \n\nVirtual Event \n  \n\nDate/Time: February 17th | 5:30-7PM CST\nLocation: MSOE 1025 N Milwaukee Street\, Milwaukee\, WI 53202 (Virtual option also available)\nAgenda:\n\n\n5:30-6:00: Networking with User Group and Professionals + Food\, Drinks and Prizes\n6:00-7:00: Data Scientist Panel\n\n\nDescription:\n\nJoin us on February 17 for a Data Scientist Panel at the Wisconsin Databricks User Group\, featuring experienced practitioners discussing the future of data science\, emerging industry trends\, and real-world challenges teams face today. Network with peers\, enjoy food and drinks\, and take part in an interactive discussion designed to spark ideas and practical takeaways. This meetup is designed to be equal parts informative and social. As always\, Databricks practitioners of all experience levels are welcome\, and you can choose to join us in person or attend virtually through our live webinar. \n\n\nData Scientist Panel:\n\nIn this panel\, join Michael Schuh\, Herbert Ssegane\, Joshua Wankowski\, and Matt Harrison as they explore industry trends\, strategies\, challenges\, skills\, ethics\, and general approaches for the following data science topics: \n\nAI & Data Trends\nPractical Implementation Challenges\nAI Ethics and Responsible AI\nSkills and Talent\nIndustry & Regional Impact\n\nAttendees will also be welcome to bring up any questions or concerns of their own. See you there!
URL:https://www.wisdbug.com/event/wi-databricks-user-group-data-scientist-panel/
CATEGORIES:Previous Event
ATTACH;FMTTYPE=image/jpeg:/wp-content/uploads/2026/01/2-17_horizontal_flyer_NOROOM.jpg
END:VEVENT
BEGIN:VEVENT
DTSTART;TZID=America/Chicago:20260421T173000
DTEND;TZID=America/Chicago:20260421T190000
DTSTAMP:20260422T175821
CREATED:20260226T164353Z
LAST-MODIFIED:20260422T190246Z
UID:1914-1776792600-1776798000@www.wisdbug.com
SUMMARY:Data Engineering Lessons from the Field
DESCRIPTION:Virtual Option \nCan’t attend in person? No problem\, we’ll also be streaming an online webinar from the event. Click below to register: \n \n\nVirtual Event \n  \n\nDate/Time: Tuesday\, April 21st 5:30-7:00 PM CST\nLocation: MSOE 1025 N Milwaukee Street\, Milwaukee\, WI 5320\nRoom Number: 445\n\nAgenda:\n\n5:30-6:00: Networking with User Group and Professionals + Food\, Drinks and Prizes\n6:00-7:00: Data Engineering Panel\n\n\nDescription:\n\nJoin us on April 21 at the Milwaukee School of Engineering campus for an energizing evening with the Milwaukee Databricks User Group from 5:30–7:00 PM. We’re bringing together top data engineers and architects from across the region for a fast-paced\, no-fluff panel discussion on what it really takes to build\, scale\, and modernize today’s data platforms. From architecture decisions and governance to performance\, cost optimization\, and real-world production lessons\, this conversation is all about practical insight you can apply immediately. The panel will feature Kent Maxwell\, Maggie Schweihs\, Ryan Shiva\, and Karthik Kadapa. Come early to network with Milwaukee’s growing data community\, stay for a dynamic discussion\, and leave with new connections and actionable ideas to elevate your data strategy.
URL:https://www.wisdbug.com/event/data-in-the-real-world-engineering-lessons-from-the-field/
CATEGORIES:Previous Event
ATTACH;FMTTYPE=image/jpeg:/wp-content/uploads/2026/02/APRIL-UPDATE-data-eng-panel-horizontal-v1.jpg
END:VEVENT
END:VCALENDAR