BEGIN:VCALENDAR
VERSION:2.0
PRODID:-//WI Databricks User Group - ECPv6.15.16.1//NONSGML v1.0//EN
CALSCALE:GREGORIAN
METHOD:PUBLISH
X-WR-CALNAME:WI Databricks User Group
X-ORIGINAL-URL:https://www.wisdbug.com
X-WR-CALDESC:Events for WI Databricks User Group
REFRESH-INTERVAL;VALUE=DURATION:PT1H
X-Robots-Tag:noindex
X-PUBLISHED-TTL:PT1H
BEGIN:VTIMEZONE
TZID:America/Chicago
BEGIN:DAYLIGHT
TZOFFSETFROM:-0600
TZOFFSETTO:-0500
TZNAME:CDT
DTSTART:20240310T080000
END:DAYLIGHT
BEGIN:STANDARD
TZOFFSETFROM:-0500
TZOFFSETTO:-0600
TZNAME:CST
DTSTART:20241103T070000
END:STANDARD
BEGIN:DAYLIGHT
TZOFFSETFROM:-0600
TZOFFSETTO:-0500
TZNAME:CDT
DTSTART:20250309T080000
END:DAYLIGHT
BEGIN:STANDARD
TZOFFSETFROM:-0500
TZOFFSETTO:-0600
TZNAME:CST
DTSTART:20251102T070000
END:STANDARD
BEGIN:DAYLIGHT
TZOFFSETFROM:-0600
TZOFFSETTO:-0500
TZNAME:CDT
DTSTART:20260308T080000
END:DAYLIGHT
BEGIN:STANDARD
TZOFFSETFROM:-0500
TZOFFSETTO:-0600
TZNAME:CST
DTSTART:20261101T070000
END:STANDARD
END:VTIMEZONE
BEGIN:VEVENT
DTSTART;TZID=America/Chicago:20251021T173000
DTEND;TZID=America/Chicago:20251021T193000
DTSTAMP:20260422T101642
CREATED:20250904T115825Z
LAST-MODIFIED:20251119T074040Z
UID:1005-1761067800-1761075000@www.wisdbug.com
SUMMARY:Wisconsin Databricks User Group: Win Governance and Sharing with Unity Catalog and Mosaic AI
DESCRIPTION:This event has already taken place. The recording will be available soon. Please check back later for the video link.
URL:https://www.wisdbug.com/event/wisconsin-databricks-user-group-win-governance-and-sharing-and-mosaic-ai/
LOCATION:MSOE Dwight and Dian Diercks Computational Science Hall Building\, 1025 N Milwaukee Street\, Room DH445\, Milwaukee\, WI\, 53202\, United States
CATEGORIES:Previous Event
ATTACH;FMTTYPE=image/png:/wp-content/uploads/2025/09/UG-Win-Governance-and-Mosaic-AI-Instagram-Post-2048-x-1071-px-1.png
ORGANIZER;CN="Theresa Winter":MAILTO:theresa.winter@xorbix.com
END:VEVENT
END:VCALENDAR