BEGIN:VCALENDAR
VERSION:2.0
PRODID:-//WI Databricks User Group - ECPv6.15.16.1//NONSGML v1.0//EN
CALSCALE:GREGORIAN
METHOD:PUBLISH
X-ORIGINAL-URL:https://www.wisdbug.com
X-WR-CALDESC:Events for WI Databricks User Group
REFRESH-INTERVAL;VALUE=DURATION:PT1H
X-Robots-Tag:noindex
X-PUBLISHED-TTL:PT1H
BEGIN:VTIMEZONE
TZID:UTC
BEGIN:STANDARD
TZOFFSETFROM:+0000
TZOFFSETTO:+0000
TZNAME:UTC
DTSTART:20240101T000000
END:STANDARD
END:VTIMEZONE
BEGIN:VEVENT
DTSTART;TZID=UTC:20250819T173000
DTEND;TZID=UTC:20250819T193000
DTSTAMP:20260422T133203
CREATED:20250723T174053Z
LAST-MODIFIED:20251119T072113Z
UID:299-1755624600-1755631800@www.wisdbug.com
SUMMARY:Wisconsin Databricks User Group: Serverless for Notebooks\, Jobs\, and DLT
DESCRIPTION:This event has already taken place. You can watch the full recording using the link below: \n🔗 [Wisconsin Databricks User Group: Serverless for Notebooks\, Jobs\, and DLT]
URL:https://www.wisdbug.com/event/wisconsin-databricks-user-group-serverless-for-notebooks-jobs-and-dlt/
CATEGORIES:Previous Event
ATTACH;FMTTYPE=image/webp:/wp-content/uploads/2025/07/Databricks-Data-AI-Summit-2025.webp
END:VEVENT
END:VCALENDAR